BEGIN:VCALENDAR
VERSION:2.0
PRODID:-//Aima Being - ECPv6.15.20//NONSGML v1.0//EN
CALSCALE:GREGORIAN
METHOD:PUBLISH
X-ORIGINAL-URL:https://aimabeing.com
X-WR-CALDESC:Events for Aima Being
REFRESH-INTERVAL;VALUE=DURATION:PT1H
X-Robots-Tag:noindex
X-PUBLISHED-TTL:PT1H
BEGIN:VTIMEZONE
TZID:UTC
BEGIN:STANDARD
TZOFFSETFROM:+0000
TZOFFSETTO:+0000
TZNAME:UTC
DTSTART:20240101T000000
END:STANDARD
END:VTIMEZONE
BEGIN:VEVENT
DTSTART;TZID=UTC:20250222T140000
DTEND;TZID=UTC:20250222T170000
DTSTAMP:20260425T150313
CREATED:20250216T043940Z
LAST-MODIFIED:20250216T044409Z
UID:272-1740232800-1740243600@aimabeing.com
SUMMARY:Virtual Quantum Healing Session
DESCRIPTION:Using the method of group regression hypnosis pioneered by Dolores Cannon\, we will be lead by a Level Two Quantum Healing Hypnosis Technique℠ (QHHT®) Practitioner\, Aima Being to experience a past life and work with your higher self to perform some Quantum heart healing. \nBe sure to bring a journal\, pen and open mind. Having a comfortable\, distraction free space is essential to receive the full effect. \nFLOW OF ACTIVITIES\nSpiritual housekeeping and holding space before session by Shaman Phil. He will open a space for us and invite our guides and ancestors to be with us.\nStarting at 2pm \n\nRestoring Energy Ball meditation (Shaman Phil)\nIntroduction to Aima Being\, Quantum Being Coach and Level Two QHHT Practitioner\, by Facilitator Melora\nIntentions and safe spaces (Melora)\nSoftening the heart meditation\nGroup Regressions Intentions\nGroup Regression to Prism of Lyra\, I am Presence Separation and Heat Wall Removal\n· The Prism of Lyra represents the original fragmentation of consciousness in our galactic history\, where Source energy—unified\, infinite\, and whole—began the process of individuating into different soul expressions to this dimensions and surroundings dimensions. This event is seen as the cosmic origin point of duality and the separation from the “I AM” presence for humanoids.\n· What Happened at the Prism of Lyra?\n· Relevance of Lyra to modern day human on path of ascension\n· What is a Quantum Being and why we ask for help: A Quantum Being is a consciousness that exists beyond the limitations of linear time\, physical density\, and singular identity. It operates across multiple dimensions\, integrating aspects of itself from different timelines\, parallel realities\, and higher states of awareness.\n· The importance of I am Presence\n\n6. Group Regression:\nSecond Regression Meeting Our Guides with Four Gifts\nFrom this place of openness\, we connect with our guides\, who bring forth four sacred gifts: \n\nUnconditional Love from Source— This love is felt deeply in the place where the heart wall once stood\, filling the space with divine light and healing. Mindmap\nI AM Presence Activation — A reconnection with your total God-self\, reigniting the spark of your true essence and aligning you with your highest potential.\nA Personal Gift — This may be a gift you’ve long desired or one your guides wish to bestow upon you\, tailored to support your unique path of growth.\nQuantum Being Activation — As you integrate higher dimensional aspects of your soul\, this activation serves to bridge these dimensions\, enhancing your capacity to embody your multidimensional nature.\n\nWe expect to end around 5pm.\nUpon ending the session\, Shaman Phil will close our sacred space and thank our guides and ancestors for their assistance. \nNote that this session is not intended to be a substitute for clinical medical needs. Results will vary widely based on the experience\, focus\, and vibration of the participants. Due to the interactive nature of the session\, participation will be limited to 30 people. See you there! \nI hope to see you there! \nLove and Light\,\nAima\, Melora and Shaman Phil \nTickets at Aima Being \nMeetup Tickets 
URL:https://aimabeing.com/event/virtual-quantum-healing-session/
END:VEVENT
END:VCALENDAR